BEGIN:VCALENDAR
VERSION:2.0
PRODID:DPCALENDAR
CALSCALE:GREGORIAN
X-WR-TIMEZONE:UTC
BEGIN:VEVENT
DTSTART:20220514T080000Z
DTEND:20220514T130000Z
UID:041bded0eb9aec81d4ca23d956eaa2cd
SUMMARY:LSTF: AKM Sitzung RB FR
DTSTAMP:20260422T045158Z
DESCRIPTION:
X-ALT-DESC;FMTTYPE=text/html:
LOCATION:
X-ACCESS:1
X-MODIFIED:20260422T045158Z
X-HITS:0
X-URL:https://www.google.com/calendar/event?eid=XzY5MWphZDFoNzUyamViYTY2Z3M0YWI5azhjcGphYjlwODRvamNiYTE2OHMzZWUxbzg1Mmo0Y3BvNjggM3FobjBtbWdrcDNlamVncmxkdHBzMjdiazBAZw
X-COLOR:
END:VEVENT
END:VCALENDAR