BEGIN:VCALENDAR
VERSION:2.0
PRODID:DPCALENDAR
CALSCALE:GREGORIAN
X-WR-TIMEZONE:UTC
BEGIN:VEVENT
DTSTART:20220515T070000Z
DTEND:20220515T150000Z
UID:57f8298bb2b3c47f115905e7c4a7bb53
SUMMARY:LSTF: Workshop Booster Feuerwehrmusik RB TÜ
DTSTAMP:20260421T181721Z
DESCRIPTION:
X-ALT-DESC;FMTTYPE=text/html:
LOCATION:
X-ACCESS:1
X-MODIFIED:20260421T181721Z
X-HITS:0
X-URL:https://www.google.com/calendar/event?eid=XzhrcmowZ2hnOGdxazhiYTU3NHNqNmI5azhjcjQyYmEyNmwxNDRiOWw3NTJqMmQyMThnbzQ4aDFwNmsgM3FobjBtbWdrcDNlamVncmxkdHBzMjdiazBAZw
X-COLOR:
END:VEVENT
END:VCALENDAR