BEGIN:VCALENDAR
VERSION:2.0
PRODID:DPCALENDAR
CALSCALE:GREGORIAN
X-WR-TIMEZONE:UTC
BEGIN:VEVENT
DTSTART:20230506T060000Z
DTEND:20230506T150000Z
UID:ac4db29dedb92365b7e325c6a5e03e0b
SUMMARY:AKM-Sitzung
DTSTAMP:20260423T081953Z
DESCRIPTION:
X-ALT-DESC;FMTTYPE=text/html:
X-ACCESS:1
X-MODIFIED:20260423T081953Z
X-HITS:0
X-URL:https://www.google.com/calendar/event?eid=Nm9yM2NjMzZjNWk2NGI5aDZncjY2YjlrYzRzNmFiOXA2NWlqOGI5azZzb2plZHBrNnNxamNkajFjayBwaGo2YzdwMnZkMjhrYWhyZ2E5NGxmNWcxOEBn
X-COLOR:
END:VEVENT
END:VCALENDAR