BEGIN:VCALENDAR
VERSION:2.0
PRODID:DPCALENDAR
CALSCALE:GREGORIAN
X-WR-TIMEZONE:UTC
BEGIN:VEVENT
DTSTART:20220628T140000Z
DTEND:20220628T150000Z
UID:6cbf54c8226432c2ada70943e60b0c60
SUMMARY:Telefontermin LFS Giesa/Schutz
DTSTAMP:20260422T203940Z
DESCRIPTION:
X-ALT-DESC;FMTTYPE=text/html:
X-ACCESS:1
X-MODIFIED:20260422T203940Z
X-HITS:0
X-URL:https://www.google.com/calendar/event?eid=N2VtZjZnbGhkcGtkYjZhbW0xcDd0bGEwbDIgcGhqNmM3cDJ2ZDI4a2FocmdhOTRsZjVnMThAZw
X-COLOR:
END:VEVENT
END:VCALENDAR