BEGIN:VCALENDAR
VERSION:2.0
PRODID:DPCALENDAR
CALSCALE:GREGORIAN
X-WR-TIMEZONE:UTC
BEGIN:VEVENT
DTSTART:20231006T140000Z
DTEND:20231006T190000Z
UID:48fcf2f3ce9ed75af52ad69b06448ec6
SUMMARY:Kreisjugendfeuerwehrwartseminar
DTSTAMP:20260421T094431Z
DESCRIPTION:
X-ALT-DESC;FMTTYPE=text/html:
LOCATION:
X-ACCESS:1
X-MODIFIED:20260421T094431Z
X-HITS:0
X-URL:https://www.google.com/calendar/event?eid=YzVoNmFvcjQ2NG9tYWJiMTc1ajY2YjlrNmNyNjJiOW9jNWo2OGJiNjZrb20yZDM0NzFobTJjOWljbyBwaGo2YzdwMnZkMjhrYWhyZ2E5NGxmNWcxOEBn
X-COLOR:
END:VEVENT
END:VCALENDAR